BEGIN:VCALENDAR
VERSION:2.0
PRODID:-//Colorado Ace Hardware - ECPv6.15.20//NONSGML v1.0//EN
CALSCALE:GREGORIAN
METHOD:PUBLISH
X-WR-CALNAME:Colorado Ace Hardware
X-ORIGINAL-URL:https://www.coloradoace.com
X-WR-CALDESC:Events for Colorado Ace Hardware
REFRESH-INTERVAL;VALUE=DURATION:PT1H
X-Robots-Tag:noindex
X-PUBLISHED-TTL:PT1H
BEGIN:VTIMEZONE
TZID:America/Denver
BEGIN:DAYLIGHT
TZOFFSETFROM:-0700
TZOFFSETTO:-0600
TZNAME:MDT
DTSTART:20250309T090000
END:DAYLIGHT
BEGIN:STANDARD
TZOFFSETFROM:-0600
TZOFFSETTO:-0700
TZNAME:MST
DTSTART:20251102T080000
END:STANDARD
BEGIN:DAYLIGHT
TZOFFSETFROM:-0700
TZOFFSETTO:-0600
TZNAME:MDT
DTSTART:20260308T090000
END:DAYLIGHT
BEGIN:STANDARD
TZOFFSETFROM:-0600
TZOFFSETTO:-0700
TZNAME:MST
DTSTART:20261101T080000
END:STANDARD
BEGIN:DAYLIGHT
TZOFFSETFROM:-0700
TZOFFSETTO:-0600
TZNAME:MDT
DTSTART:20270314T090000
END:DAYLIGHT
BEGIN:STANDARD
TZOFFSETFROM:-0600
TZOFFSETTO:-0700
TZNAME:MST
DTSTART:20271107T080000
END:STANDARD
END:VTIMEZONE
BEGIN:VEVENT
DTSTART;VALUE=DATE:20260611
DTEND;VALUE=DATE:20261024
DTSTAMP:20260420T093744
CREATED:20251229T231447Z
LAST-MODIFIED:20260419T221136Z
UID:1342-1781136000-1792799999@www.coloradoace.com
SUMMARY:Five Dollar Film Series
DESCRIPTION:Enjoy an affordable night out in Breckenridge at the Five Dollar Film Series at the Riverwalk Center. This fan-favorite series brings cult classics and iconic films back to the big screen in a fun\, participatory setting. Costumes and themed attire are encouraged\, making it a perfect community night out in Summit County. \nHosted in partnership with Breck Film and Breck Create\, these screenings turn movie nights into memorable local experiences. \n\n\nWhen: Select Dates February – October 2026 \n\n\nJune 11\, 2026 | 8:30 PM – Rocky Horror Picture Show \n\n\nAugust 23\, 2026 | 7:30 PM – Alice in Wonderland \n\n\nAugust 23\, 2026 | 7:30 PM – The Dark Side of the Rainbow \n\n\nOctober 23\, 2026 | 7:30 PM – The Shining \n\n\n\n\nCost: $5 ($7 including service fees) \n\n\nWhere: Riverwalk Center\, 150 W Adams Ave\, Breckenridge\, CO \n\n\nPro Tip: Arrive early to grab great seats and enjoy dinner in Breckenridge before the show! \n\n\nLearn More \n\nThis event is not hosted by Colorado Ace. We’re just sharing it for our community!
URL:https://www.coloradoace.com/event/five-dollar-film-series-breckenridge/
LOCATION:Summit County Ace\, 209 Summit Pl\, Silverthorne\, CO\, 80498\, United States
CATEGORIES:Community
ATTACH;FMTTYPE=image/png:https://www.coloradoace.com/wp-content/uploads/2025/12/Five-Dollar-Film-Series-at-Riverwalk-Center-in-Breckenridge.png
END:VEVENT
END:VCALENDAR